BEGIN:VCALENDAR
VERSION:2.0
PRODID:-//COCO - ECPv6.15.16//NONSGML v1.0//EN
CALSCALE:GREGORIAN
METHOD:PUBLISH
X-WR-CALNAME:COCO
X-ORIGINAL-URL:https://coco.dk
X-WR-CALDESC:Begivenheder for COCO
REFRESH-INTERVAL;VALUE=DURATION:PT1H
X-Robots-Tag:noindex
X-PUBLISHED-TTL:PT1H
BEGIN:VTIMEZONE
TZID:UTC
BEGIN:STANDARD
TZOFFSETFROM:+0000
TZOFFSETTO:+0000
TZNAME:UTC
DTSTART:20250101T000000
END:STANDARD
END:VTIMEZONE
BEGIN:VEVENT
DTSTART;TZID=UTC:20261002T190000
DTEND;TZID=UTC:20261002T210000
DTSTAMP:20260424T163433
CREATED:20260424T091702Z
LAST-MODIFIED:20260424T091702Z
UID:10000461-1790967600-1790974800@coco.dk
SUMMARY:Beethoven & Bezuidenhout
DESCRIPTION:Beethoven & Bezuidenhout\nKristian Bezuidenhout og Concerto Copenhagen i musik af Mozart\, Haydn\, Gerson og Beethoven \nConcerto Copenhagen og Kristian Bezuidenhout forener tradition og nybrud i et program\, hvor nogle af den klassiske musiks mest betydningsfulde skikkelser søger nye musikalske horisonter \nFire komponister og fire værker\, der på hver deres måde udfordrer klassicismens idealer om balance\, renhed og klarhed i jagten på endnu uopdagede musikalske landskaber. \nMozarts ouverture til Idomeneo er dristig i sin harmoniske dramatik\, mens Haydns “Londonsymfoni” udfolder sig med monumental kraft og vitalitet. Herhjemme viser Georg Gerson en bemærkelsesværdig klanglig og harmonisk opfindsomhed\, og Beethoven lader i sin fjerde klaverkoncert det intime og poetiske møde det heroiske og visionære. \n”En magisk koncert. Verden var ikke den samme bagefter”*\, lød anmeldelsen da den sydafrikanske pianist Kristian Bezuidenhout spillede koncert med Concerto Copenhagen i november 2020. \nMedvirkende\nKristian Bezuidenhout\nConcerto Copenhagen \nProgram\nW.A. Mozart (1756-1792) \nOuverture til Idomeneo (1781) \nJ. Haydn (1732-1809) \nSymfoni nr. 104 – London (1794) \nG. Gerson (1790-1825) \nOuverture i D-dur (1812) \nL.v. Beethoven (1770-1827)\nKlaverkoncert nr. 4 (1805)
URL:https://coco.dk/concert/beethoven-bezuidenhout-3/
LOCATION:Studie 2\, DR Koncerthuset\, Ørestads Boulevard 13\, København\, 2300
END:VEVENT
END:VCALENDAR