BEGIN:VCALENDAR
VERSION:2.0
PRODID:-//COCO - ECPv6.15.16//NONSGML v1.0//EN
CALSCALE:GREGORIAN
METHOD:PUBLISH
X-ORIGINAL-URL:https://coco.dk
X-WR-CALDESC:Begivenheder for COCO
REFRESH-INTERVAL;VALUE=DURATION:PT1H
X-Robots-Tag:noindex
X-PUBLISHED-TTL:PT1H
BEGIN:VTIMEZONE
TZID:UTC
BEGIN:STANDARD
TZOFFSETFROM:+0000
TZOFFSETTO:+0000
TZNAME:UTC
DTSTART:20250101T000000
END:STANDARD
END:VTIMEZONE
BEGIN:VEVENT
DTSTART;TZID=UTC:20260106T193000
DTEND;TZID=UTC:20260106T210000
DTSTAMP:20260422T163930
CREATED:20251013T223704Z
LAST-MODIFIED:20251217T215917Z
UID:10000409-1767727800-1767733200@coco.dk
SUMMARY:Stylus Phantasticus
DESCRIPTION:Heinrich. I.F. Biber:             Sonata VIII fra Fidicinium Sacro-Profanum \n\n\nDario Castello:                   Sonata XV à 4 (libro II)  \n\n\nJohann H. Schmelzer:        Lamento di Ferdinando III \n\n\nJohann J. Froberger:         Toccata Seconda for solo cembalo \n\n\nHenry Purcell:                    Pavana i A-dur\, z.748  \n\n\nAntonio Bertali:                  Ciacona for violin og continuo \n\n\n – Pause – \n\n\nHeinrich. I.F. Biber:             Sonata XI fra Fidicinium Sacro-Profanum  \n\n\nDietrich Buxtehude:           Toccata i g-mol for solo cembalo\, BuxVW 163 \n\n\nJohann H. Schmelzer:        Polnische Sackpfeifen \n\n\nJohann Pachelbel:              Canon & Gigue
URL:https://coco.dk/concert/stylus-phantasticus-5/
LOCATION:Skanderborg Slotskirke\, Kirkebakken 4\, Skanderborg\, Denmark
CATEGORIES:Stylus Phantasticus
ATTACH;FMTTYPE=image/png:https://coco.dk/wp-content/uploads/2025/10/stylusf-FB-cover.png
END:VEVENT
END:VCALENDAR