BEGIN:VCALENDAR
VERSION:2.0
PRODID:-//COCO - ECPv6.15.16//NONSGML v1.0//EN
CALSCALE:GREGORIAN
METHOD:PUBLISH
X-ORIGINAL-URL:https://coco.dk
X-WR-CALDESC:Begivenheder for COCO
REFRESH-INTERVAL;VALUE=DURATION:PT1H
X-Robots-Tag:noindex
X-PUBLISHED-TTL:PT1H
BEGIN:VTIMEZONE
TZID:UTC
BEGIN:STANDARD
TZOFFSETFROM:+0000
TZOFFSETTO:+0000
TZNAME:UTC
DTSTART:20220101T000000
END:STANDARD
END:VTIMEZONE
BEGIN:VEVENT
DTSTART;TZID=UTC:20260107T193000
DTEND;TZID=UTC:20260107T210000
DTSTAMP:20260422T163925
CREATED:20251013T223824Z
LAST-MODIFIED:20251217T220007Z
UID:10000410-1767814200-1767819600@coco.dk
SUMMARY:Stylus Phantasticus
DESCRIPTION:Heinrich. I.F. Biber:             Sonata VIII fra Fidicinium Sacro-Profanum \n\n\nDario Castello:                   Sonata XV à 4 (libro II)  \n\n\nJohann H. Schmelzer:        Lamento di Ferdinando III \n\n\nJohann J. Froberger:         Toccata Seconda for solo cembalo \n\n\nHenry Purcell:                    Pavana i A-dur\, z.748  \n\n\nAntonio Bertali:                  Ciacona for violin og continuo \n\n\n – Pause – \n\n\nHeinrich. I.F. Biber:             Sonata XI fra Fidicinium Sacro-Profanum  \n\n\nDietrich Buxtehude:           Toccata i g-mol for solo cembalo\, BuxVW 163 \n\n\nJohann H. Schmelzer:        Polnische Sackpfeifen \n\n\nJohann Pachelbel:              Canon & Gigue
URL:https://coco.dk/concert/stylus-phantasticus-6/
LOCATION:Dråby Kirke\, Kirkegårdsvej 5\, Ebeltoft\, 8400\, Denmark
CATEGORIES:Stylus Phantasticus
ATTACH;FMTTYPE=image/png:https://coco.dk/wp-content/uploads/2025/10/stylusf-FB-cover.png
END:VEVENT
BEGIN:VEVENT
DTSTART;TZID=UTC:20230730T150000
DTEND;TZID=UTC:20230730T170000
DTSTAMP:20260422T163925
CREATED:20230413T223218Z
LAST-MODIFIED:20230510T144112Z
UID:10000146-1690729200-1690736400@coco.dk
SUMMARY:De fire årstider af Vivaldi
DESCRIPTION:Vivaldi: \nLa Senna festegigiante\, Sinfonia\, RV 693 \nKoncert for Violin ’La primaver’\, RV 269; Op. 8 Nr. 1 \nKoncert for Strygere i D-minor ‘Madrigalesco’\, RV 129 \nKoncert for Violin ‘L’estate’\, RV 315; Op. 8 Nr. 2 \n—- \nKoncert for Violin ‘L’autumno’\, RV 293; Op. 8 nr. 3 \nL’Olimpiade\, Sinfonia\, RV 725 \nKoncert for Violin ’L’inverno’\, RV 297; Op. 8. nr. 4
URL:https://coco.dk/concert/de-fire-aarstider-af-vivaldi-3/
LOCATION:Dråby Kirke\, Kirkegårdsvej 5\, Ebeltoft\, 8400\, Denmark
CATEGORIES:De fire årstider af Vivaldi
END:VEVENT
END:VCALENDAR