BEGIN:VCALENDAR
VERSION:2.0
PRODID:-//COCO - ECPv6.15.16//NONSGML v1.0//EN
CALSCALE:GREGORIAN
METHOD:PUBLISH
X-ORIGINAL-URL:https://coco.dk
X-WR-CALDESC:Begivenheder for COCO
REFRESH-INTERVAL;VALUE=DURATION:PT1H
X-Robots-Tag:noindex
X-PUBLISHED-TTL:PT1H
BEGIN:VTIMEZONE
TZID:UTC
BEGIN:STANDARD
TZOFFSETFROM:+0000
TZOFFSETTO:+0000
TZNAME:UTC
DTSTART:20230101T000000
END:STANDARD
END:VTIMEZONE
BEGIN:VEVENT
DTSTART;TZID=UTC:20240712T210000
DTEND;TZID=UTC:20240712T230000
DTSTAMP:20260422T133354
CREATED:20240509T171348Z
LAST-MODIFIED:20240509T171348Z
UID:10000296-1720818000-1720825200@coco.dk
SUMMARY:Stylus Phantasticus
DESCRIPTION:Heinrich. I.F. Biber:             Sonata I from Fidicinium Sacro-Profanum\n \n\n\nDario Castello:                      Sonata XVI à 4 (libro II) \n\n\nJohann H. Schmelzer:        Lamento di Ferdinando III \n\n\nJohann J. Froberger:         Toccata Seconda for harpsichord \n\n\nHenry Purcell:                     Pavana in A Major\, z.748 \n\n\nAntonio Bertali:                  Ciacona for violin and continuo \n\n\n\n\n\n-pause- \n\n\nHeinrich. I.F. Biber:            Sonata II from Fidicinium Sacro-Profanum \n\n\nDietrich Buxtehude:           Toccata in g minor for harpsichord\, BuxVW 163 \n\n\nJohann H. Schmelzer:        Polnische Sackpfeifen \n\n\nJohann Pachelbel:              Canon & Gigue \n\n 
URL:https://coco.dk/concert/stylus-phantasticus-3/
LOCATION:CÂMARA MUNICIPAL DA PÓVOA DE VARZIM\, Praça do Almada\, Portugal
CATEGORIES:Stylus Phantasticus
END:VEVENT
END:VCALENDAR