BEGIN:VCALENDAR
VERSION:2.0
PRODID:-//COCO - ECPv6.15.16//NONSGML v1.0//EN
CALSCALE:GREGORIAN
METHOD:PUBLISH
X-WR-CALNAME:COCO
X-ORIGINAL-URL:https://coco.dk
X-WR-CALDESC:Begivenheder for COCO
REFRESH-INTERVAL;VALUE=DURATION:PT1H
X-Robots-Tag:noindex
X-PUBLISHED-TTL:PT1H
BEGIN:VTIMEZONE
TZID:UTC
BEGIN:STANDARD
TZOFFSETFROM:+0000
TZOFFSETTO:+0000
TZNAME:UTC
DTSTART:20230101T000000
END:STANDARD
END:VTIMEZONE
BEGIN:VEVENT
DTSTART;TZID=UTC:20240516T090000
DTEND;TZID=UTC:20240516T120000
DTSTAMP:20260422T145756
CREATED:20240419T105427Z
LAST-MODIFIED:20240419T105427Z
UID:10000288-1715850000-1715860800@coco.dk
SUMMARY:Co:Cura Barok
DESCRIPTION:Musik af Vivaldi\, Bach\, Händel og Corelli.
URL:https://coco.dk/concert/cocura-barok-13/
LOCATION:Psykiatri Bispebjerg
CATEGORIES:Hospitalskoncerter,Co:Cura Barok
END:VEVENT
END:VCALENDAR