BEGIN:VCALENDAR
VERSION:2.0
PRODID:-//COCO - ECPv6.15.16//NONSGML v1.0//EN
CALSCALE:GREGORIAN
METHOD:PUBLISH
X-ORIGINAL-URL:https://coco.dk
X-WR-CALDESC:Begivenheder for COCO
REFRESH-INTERVAL;VALUE=DURATION:PT1H
X-Robots-Tag:noindex
X-PUBLISHED-TTL:PT1H
BEGIN:VTIMEZONE
TZID:UTC
BEGIN:STANDARD
TZOFFSETFROM:+0000
TZOFFSETTO:+0000
TZNAME:UTC
DTSTART:20250101T000000
END:STANDARD
END:VTIMEZONE
BEGIN:VEVENT
DTSTART;TZID=UTC:20261106T193000
DTEND;TZID=UTC:20261106T213000
DTSTAMP:20260424T174326
CREATED:20260424T130757Z
LAST-MODIFIED:20260424T130757Z
UID:10000472-1793993400-1794000600@coco.dk
SUMMARY:Händels håb om fred
DESCRIPTION:Händels musik i Utrecht Te Deum og Jubilate forener kirkens højtidelighed med en næsten operalignende festlighed i et tidløst udtryk for taknemlighed\, lettelse og glæde.  \nGeorg Friedrich Händels musik er uadskilleligt forbundet med store historiske øjeblikke\, uanset om det er krig og fred\, kroning eller kærlighed. Denne koncert præsenterer tre af hans mest ikoniske værker: Utrecht Te Deum og Jubilate\, komponeret i 1713 for at fejre freden i Utrecht\, samt Coronation Anthem – Zadok the Priest\, skrevet til kroningen af kong George II i 1727. \nFreden i Utrecht i 1713 afsluttede den udmattende Spanske Arvefølgekrig\, som i over et årti havde drænet Europas stormagter for ressourcer og menneskeliv. Ud over fred sikrede aftalen Storbritannien betydelige fordele\, herunder territorier som Gibraltar. Händel komponerede Te Deum og Jubilate som led i de officielle fejringer i London. Ved uropførelsen i St. Paul’s Cathedral blev værkerne sunget af kirkens drengekor. Ud over at det var tradition i den anglikanske kirke at anvende drenge til sopran- og altpartierne og voksne mænd til tenor og bas\, kom denne kombination af unge og erfarne stemmer også til at understrege værkernes symbolik: en ny begyndelse og håb for fremtiden. \nUd over Messias er Zadok the Priest måske Händels mest berømte værk\, komponeret til kroningen af kong George II i 1727. Teksten\, der stammer fra Det Gamle Testamente\, hylder den nye konge og er blevet sunget ved hver britisk kroning siden. Værket åbner med en dramatisk orkesterindledning\, fulgt af korets storslåede indtræden – et øjeblik\, der stadig i dag får lytterne til at rejse sig. Mange vil måske huske\, at netop denne musik blev brugt i maj 2004\, da Mary Donaldson som brud gik op ad midtergangen i domkirken for at blive modtaget af en bevæget kronprins Frederik. Dengang som nu\, i selvsamme kirke\, vil musikken blive opført af Københavns Drengekor og Concerto Copenhagen. \nMedvirkende\nMarlene Metzger\, sopran\nAlex Potter\, kontratenor\nGuy Cutting\, tenor\nPeter Harvey\, bas\nKøbenhavns Drengekor\nConcerto Copenhagen
URL:https://coco.dk/concert/handels-haab-om-fred/
LOCATION:Vor Frue Kirke\, København\, Nørregade 8\, København\, 1165\, Denmark
END:VEVENT
BEGIN:VEVENT
DTSTART;TZID=UTC:20261107T160000
DTEND;TZID=UTC:20261107T180000
DTSTAMP:20260424T174327
CREATED:20260424T131351Z
LAST-MODIFIED:20260424T131351Z
UID:10000473-1794067200-1794074400@coco.dk
SUMMARY:Händels håb om fred
DESCRIPTION:Händels musik i Utrecht Te Deum og Jubilate forener kirkens højtidelighed med en næsten operalignende festlighed i et tidløst udtryk for taknemlighed\, lettelse og glæde.  \nGeorg Friedrich Händels musik er uadskilleligt forbundet med store historiske øjeblikke\, uanset om det er krig og fred\, kroning eller kærlighed. Denne koncert præsenterer tre af hans mest ikoniske værker: Utrecht Te Deum og Jubilate\, komponeret i 1713 for at fejre freden i Utrecht\, samt Coronation Anthem – Zadok the Priest\, skrevet til kroningen af kong George II i 1727. \nFreden i Utrecht i 1713 afsluttede den udmattende Spanske Arvefølgekrig\, som i over et årti havde drænet Europas stormagter for ressourcer og menneskeliv. Ud over fred sikrede aftalen Storbritannien betydelige fordele\, herunder territorier som Gibraltar. Händel komponerede Te Deum og Jubilate som led i de officielle fejringer i London. Ved uropførelsen i St. Paul’s Cathedral blev værkerne sunget af kirkens drengekor. Ud over at det var tradition i den anglikanske kirke at anvende drenge til sopran- og altpartierne og voksne mænd til tenor og bas\, kom denne kombination af unge og erfarne stemmer også til at understrege værkernes symbolik: en ny begyndelse og håb for fremtiden. \nUd over Messias er Zadok the Priest måske Händels mest berømte værk\, komponeret til kroningen af kong George II i 1727. Teksten\, der stammer fra Det Gamle Testamente\, hylder den nye konge og er blevet sunget ved hver britisk kroning siden. Værket åbner med en dramatisk orkesterindledning\, fulgt af korets storslåede indtræden – et øjeblik\, der stadig i dag får lytterne til at rejse sig. Mange vil måske huske\, at netop denne musik blev brugt i maj 2004\, da Mary Donaldson som brud gik op ad midtergangen i domkirken for at blive modtaget af en bevæget kronprins Frederik. Dengang som nu\, i selvsamme kirke\, vil musikken blive opført af Københavns Drengekor og Concerto Copenhagen. \nMedvirkende\nMarlene Metzger\, sopran\nAlex Potter\, kontratenor\nGuy Cutting\, tenor\nPeter Harvey\, bas\nKøbenhavns Drengekor\nConcerto Copenhagen
URL:https://coco.dk/concert/handels-haab-om-fred-2/
LOCATION:Roskilde Domkirke\, Roskilde\, Denmark
END:VEVENT
END:VCALENDAR