BEGIN:VCALENDAR
VERSION:2.0
PRODID:-//COCO - ECPv6.15.16//NONSGML v1.0//EN
CALSCALE:GREGORIAN
METHOD:PUBLISH
X-ORIGINAL-URL:https://coco.dk
X-WR-CALDESC:Begivenheder for COCO
REFRESH-INTERVAL;VALUE=DURATION:PT1H
X-Robots-Tag:noindex
X-PUBLISHED-TTL:PT1H
BEGIN:VTIMEZONE
TZID:UTC
BEGIN:STANDARD
TZOFFSETFROM:+0000
TZOFFSETTO:+0000
TZNAME:UTC
DTSTART:20250101T000000
END:STANDARD
END:VTIMEZONE
BEGIN:VEVENT
DTSTART;TZID=UTC:20261217T193000
DTEND;TZID=UTC:20261217T213000
DTSTAMP:20260424T171059
CREATED:20260424T122738Z
LAST-MODIFIED:20260424T124137Z
UID:10000468-1797535800-1797543000@coco.dk
SUMMARY:Concerto Copenhagens Jul
DESCRIPTION:
URL:https://coco.dk/concert/concerto-copenhagens-jul-i-helsingoer/
LOCATION:Helsingør Domkirke\, Skt. Olai\, Sct. Anna Gade 12\, Helsingør\, 3000\, Denmark
END:VEVENT
BEGIN:VEVENT
DTSTART;TZID=UTC:20261218T193000
DTEND;TZID=UTC:20261218T213000
DTSTAMP:20260424T171100
CREATED:20260424T123223Z
LAST-MODIFIED:20260424T124127Z
UID:10000469-1797622200-1797629400@coco.dk
SUMMARY:Concerto Copenhagens Jul
DESCRIPTION:
URL:https://coco.dk/concert/concerto-copenhagens-jul-i-kolding/
LOCATION:Sankt Nicolai Kirke\, Kolding\, Nicolaiplads 3\, Kolding\, Denmark
END:VEVENT
BEGIN:VEVENT
DTSTART;TZID=UTC:20261219T160000
DTEND;TZID=UTC:20261219T180000
DTSTAMP:20260424T171100
CREATED:20260424T123531Z
LAST-MODIFIED:20260424T123531Z
UID:10000470-1797696000-1797703200@coco.dk
SUMMARY:Concerto Copenhagens Jul 2026
DESCRIPTION:
URL:https://coco.dk/concert/concerto-copenhagens-jul-2026-2/
LOCATION:Trinitatis Kirke\, København
END:VEVENT
BEGIN:VEVENT
DTSTART;TZID=UTC:20261220T160000
DTEND;TZID=UTC:20261220T180000
DTSTAMP:20260424T171100
CREATED:20260424T123630Z
LAST-MODIFIED:20260424T123630Z
UID:10000471-1797782400-1797789600@coco.dk
SUMMARY:Concerto Copenhagens Jul 2026
DESCRIPTION:
URL:https://coco.dk/concert/concerto-copenhagens-jul-2026-3/
LOCATION:Trinitatis Kirke\, København
END:VEVENT
END:VCALENDAR