BEGIN:VCALENDAR
VERSION:2.0
PRODID:-//COCO - ECPv6.15.16//NONSGML v1.0//EN
CALSCALE:GREGORIAN
METHOD:PUBLISH
X-WR-CALNAME:COCO
X-ORIGINAL-URL:https://coco.dk
X-WR-CALDESC:Begivenheder for COCO
REFRESH-INTERVAL;VALUE=DURATION:PT1H
X-Robots-Tag:noindex
X-PUBLISHED-TTL:PT1H
BEGIN:VTIMEZONE
TZID:UTC
BEGIN:STANDARD
TZOFFSETFROM:+0000
TZOFFSETTO:+0000
TZNAME:UTC
DTSTART:20250101T000000
END:STANDARD
END:VTIMEZONE
BEGIN:VEVENT
DTSTART;VALUE=DATE:20260914
DTEND;VALUE=DATE:20260915
DTSTAMP:20260424T153102
CREATED:20260424T095855Z
LAST-MODIFIED:20260424T095855Z
UID:10000464-1789344000-1789430399@coco.dk
SUMMARY:Lammermuir Festival: Michaelerhaus
DESCRIPTION:Concerto Copenhagen er igen i år inviteret til Lammermuirfestivalen i Skotland med hele tre programmer.\nMere information følger snarest. \n  \n\nI hjertet af Wien\, på Michaelerplatz\, ligger Grosses Michaelerhaus. I 1750 flyttede den unge Joseph Haydn ind i huset\, i et beskedent loftskammer\, mens han modtog undervisning af den ældre komponist Nicola Porpora\, som boede lige ved siden af. I samme bygning boede også familien Martines\, hvis datter Marianna udviklede sig til en fremtrædende komponist og pianist – alle vejledet af husets mest berømte beboer\, digteren og librettisten Pietro Metastasio. \n\nHusets historie rummer desuden den tidligere beboer Giuseppe Bonno samt gæster som Johann Adolf Hasse og utallige sangere og musikere\, der alle bidrog til det livlige kunstneriske fællesskab. Denne koncert vækker lyden af dette bemærkelsesværdige hus til live\, hvor generationer af musik og poesi levede under samme tag\, og en ny musikalsk ånd begyndte at tage form.
URL:https://coco.dk/concert/lammermuir-festival-michaelerhaus/
END:VEVENT
BEGIN:VEVENT
DTSTART;VALUE=DATE:20260916
DTEND;VALUE=DATE:20260917
DTSTAMP:20260424T153102
CREATED:20260424T100512Z
LAST-MODIFIED:20260424T100512Z
UID:10000465-1789516800-1789603199@coco.dk
SUMMARY:Lammermuir Festival: Die Tageszeiten
DESCRIPTION:Concerto Copenhagen er igen i år inviteret til Lammermuirfestivalen i Skotland med hele tre programmer.\nMere information følger snarest. \nProgram\nJ. Haydn – Die Tageszeiten\nSymphony no. 6 (Le Matin)\nSymphony no. 7 (Le Midi)\nSymphony no. 8 (Le Soir)
URL:https://coco.dk/concert/lammermuir-festival-die-tageszeiten/
END:VEVENT
BEGIN:VEVENT
DTSTART;VALUE=DATE:20260918
DTEND;VALUE=DATE:20260919
DTSTAMP:20260424T153102
CREATED:20260424T100953Z
LAST-MODIFIED:20260424T100953Z
UID:10000466-1789689600-1789775999@coco.dk
SUMMARY:Lammermuir Festival: Eine Kleine Festmusik
DESCRIPTION:Concerto Copenhagen er igen i år inviteret til Lammermuirfestivalen i Skotland med hele tre programmer.\nMere information følger snarest. \nMed Eine Kleine Nachtmusik\, som du aldrig har hørt den før – og med den nyopdagede Ganz Kleine Nacthmusik. \nSiden tidernes begyndelse har mennesker søgt fornøjelse og underholdning. “Eine Kleine Festmusik” appellerer til denne tidløse trang – snakken\, sladderen\, sjov\, druk og flirt – præcis som i dag. Og musik var – som nu – en nødvendighed for at skabe den rette stemning! \n I anden halvdel af det 18. århundrede blev musik til festligheder\, banketter\, udendørs arrangementer og caféer meget populært og blev ofte kaldt “nachtmusik” eller “serenademusik”. Det eneste formål var at underholde og begejstre. \nKomponister gik langt for at imponere adelige og indflydelsesrige personer\, der ofte var til stede ved disse lejligheder.  Måske var der muligheder for en bestilling til endnu et værk! Som følge heraf findes der store mængder sjov\, sær\, fængende\, yndefuld\, varieret og ofte forbløffende virtuos musik af denne art – som ydermere ofte presser musikerne til grænsen af deres kunnen. \nMozart og Haydn er store ambassadører for genren. Mozarts berømte ”Eine kleine Nachtmusik” får vi i en helt ny bearbejdelse af Concerto Copenhagens kunstneriske leder\, Lars Ulrik Mortensen\, og vi får selvfølgelig lov til at høre det for nylig opdagede stykke ”Ganz kleine Nachtmusik”. Men der er også en overflod af mindre kendte – men talentfulde komponister\, der specialiserede sig i denne form for underholdning. Dette program præsenterer nogle af dem\, som f.eks.  Joseph Haydns undervurderede bror Michael\, Mozarts favorit Mysliveček og den sære og spændende Družecký. \nProgram\nA. Mozart\nEine Kleine Nachtmusik\, 1.sats (arr: Lars Ulrik Mortensen) \nJiří Družecký\nKvintet i C-dur \nA. Mozart\nEine Kleine Nachtmusik\, 2. sats (arr: Lars Ulrik Mortensen) \nMichael Haydn\nDivertimento i G-dur\, MH 518 \nA. Mozart\nEine Kleine Nachtmusik\, 3. sats (arr: Lars Ulrik Mortensen) \n—-\nJosef Mysliveček\nKvintet (Divertimento) nr. 1 i D-dur \nA. Mozart\nGanz kleine Nachtmusik KV.648 \nA. Mozart\nEine Kleine Nachtmusik\, 4. sats (arr: Lars Ulrik Mortensen) \nJosef Haydn\nCassation a 9 i. F-dur\, Hob II:20
URL:https://coco.dk/concert/lammermuir-festival-eine-kleine-festmusik/
END:VEVENT
END:VCALENDAR