BEGIN:VCALENDAR
VERSION:2.0
PRODID:-//COCO - ECPv6.15.16//NONSGML v1.0//EN
CALSCALE:GREGORIAN
METHOD:PUBLISH
X-ORIGINAL-URL:https://coco.dk
X-WR-CALDESC:Begivenheder for COCO
REFRESH-INTERVAL;VALUE=DURATION:PT1H
X-Robots-Tag:noindex
X-PUBLISHED-TTL:PT1H
BEGIN:VTIMEZONE
TZID:UTC
BEGIN:STANDARD
TZOFFSETFROM:+0000
TZOFFSETTO:+0000
TZNAME:UTC
DTSTART:20250101T000000
END:STANDARD
END:VTIMEZONE
BEGIN:VEVENT
DTSTART;TZID=UTC:20260723T190000
DTEND;TZID=UTC:20260723T210000
DTSTAMP:20260424T163342
CREATED:20260424T083607Z
LAST-MODIFIED:20260424T102603Z
UID:10000453-1784833200-1784840400@coco.dk
SUMMARY:Eine Kleine Festmusik
DESCRIPTION:A. Mozart\nEine Kleine Nachtmusik\, 1.sats (arr: Lars Ulrik Mortensen) \nJiří Družecký\nKvintet i C-dur \nA. Mozart\nEine Kleine Nachtmusik\, 2. sats (arr: Lars Ulrik Mortensen) \nMichael Haydn\nDivertimento i G-dur\, MH 518 \nA. Mozart\nEine Kleine Nachtmusik\, 3. sats (arr: Lars Ulrik Mortensen) \n—-\nJosef Mysliveček\nKvintet (Divertimento) nr. 1 i D-dur \nA. Mozart\nGanz kleine Nachtmusik KV.648\nEine Kleine Nachtmusik\, 4. sats (arr: Lars Ulrik Mortensen) \nCassation a 9 i. F-dur\, Hob II:20
URL:https://coco.dk/concert/eine-kleine-festmusik-7/
LOCATION:Kirkesalen på Koldinghus\, Kolding\, Denmark
CATEGORIES:eine kleine festmusik
END:VEVENT
END:VCALENDAR