BEGIN:VCALENDAR
VERSION:2.0
PRODID:-//COCO - ECPv6.15.16//NONSGML v1.0//EN
CALSCALE:GREGORIAN
METHOD:PUBLISH
X-WR-CALNAME:COCO
X-ORIGINAL-URL:https://coco.dk
X-WR-CALDESC:Begivenheder for COCO
REFRESH-INTERVAL;VALUE=DURATION:PT1H
X-Robots-Tag:noindex
X-PUBLISHED-TTL:PT1H
BEGIN:VTIMEZONE
TZID:UTC
BEGIN:STANDARD
TZOFFSETFROM:+0000
TZOFFSETTO:+0000
TZNAME:UTC
DTSTART:20250101T000000
END:STANDARD
END:VTIMEZONE
BEGIN:VEVENT
DTSTART;TZID=UTC:20260713T193000
DTEND;TZID=UTC:20260713T213000
DTSTAMP:20260424T155441
CREATED:20260424T084216Z
LAST-MODIFIED:20260424T084216Z
UID:10000454-1783971000-1783978200@coco.dk
SUMMARY:Små koncerter - store komponister
DESCRIPTION:Dette program byder på en samling af imponerende koncerter i mindre besætninger af nogle af de største komponister fra baroktiden. Publikum vil være på kanten af deres sæder hele koncerten igennem. Først to Concerti Grosso af den undervurderede og fredselskende geni Georg Muffat. Han var en stor beundrer af Corelli\, “genrenes bedstefar\,” som Muffat gjorde til sin egen. Derefter en helt ny tilgang til koncertformen af den uimodståeligt fantasifulde Telemann i to koncerter for fire violiner alene. Så til Vivaldi\, mesteren over barokkens solokoncert\, der viser\, at han er lige så overbevisende i “dobbeltformatet” – en for to violiner og en for to celloer. Og endelig Bachs fortolkning af Concerto Grosso – den unikke 3. Brandenburgerkoncert\, hvor alle er solister.
URL:https://coco.dk/concert/smaa-koncerter-store-komponister-6/
LOCATION:Gjethuset\, Frederiksværk\, Gjethusgade 5\, Frederiksværk\, 3300\, Danmark
END:VEVENT
END:VCALENDAR